BEGIN:VCALENDAR
VERSION:2.0
PRODID:http://www.adfc-tour.de/
NAME:ADFC Veranstaltungen
DESCRIPTION: ADFC Radtouren und Veranstaltungen
REFRESH-INTERVAL;VALUE=DURATION:P1D
X-PUBLISHED-TTL:P1D
COLOR:#ee7f00
X-LOTUS-CHARSET:UTF-8
X-WR-CALNAME:ADFC Veranstaltungen
BEGIN:VTIMEZONE
TZID:Europe/Berlin
X-LIC-LOCATION:Europe/Berlin
BEGIN:DAYLIGHT
TZOFFSETFROM:+0100
TZOFFSETTO:+0200
TZNAME:CEST
DTSTART:19700329T020000
RRULE:FREQ=YEARLY;BYDAY=-1SU;BYMONTH=3
END:DAYLIGHT
BEGIN:STANDARD
TZOFFSETFROM:+0200
TZOFFSETTO:+0100
TZNAME:CET
DTSTART:19701025T030000
RRULE:FREQ=YEARLY;BYDAY=-1SU;BYMONTH=10
END:STANDARD
END:VTIMEZONE
METHOD:PUBLISH
BEGIN:VEVENT
CLASS:PUBLIC
UID:adfc-tour.de14125T091500S634
DTSTART;TZID=Europe/Berlin;VALUE=DATE-TIME:20140323T091500
SUMMARY:Tour de Jazz – Mit Musik geht alles besser!
DESCRIPTION:Was gibt es Schöneres\, als sich nach einer gemeinsamen Radtour bei Jazzklängen zu regenerieren! Vom UmweltHaus fahren wir Richtung Campus\, an der Ahna entlang über die Fiedlerstraße Richtung Vellmar. Ein kurzes Stück entlang der Niedervellmarer Straße und dann geht's weiter auf guten Wegen durch Wiesen und Felder. Auf dem letzten Kilometer - wir sind dann schon eingefahren - kommt eine leichte Steigung und wir erreichen das Waldhotel Schäferberg.\nFür Details siehe https://www.adfc-tour.de/zeige_tour.php?id=14125 \n30 km\, Schwierigkeit ***.
COMMENT:Anmeldung bis 20.03.2015 bzw. 23.10.2015\nKosten für Einkehr
LOCATION:UmweltHaus Kassel
GEO:51.314332;9.4906
ORGANIZER;CN=ADFC Kassel Stadt und Land e.V.\,ADFC Kassel Stadt und Land e.V.:mailto:kalender@adfc-tour.de
CONTACT:Norbert (Bobby) Bachmann\, Walburga Wissing
URL:https://www.adfc-tour.de/zeige_tour.php?id=14125#coming_from=ICS
ATTACH:https://www.adfc-tour.de/zeige_tour.php?id=14125#coming_from=ICS
CATEGORIES:Halbtagestour
DTEND;TZID=Europe/Berlin;VALUE=DATE-TIME:20140323T143000
STATUS:CONFIRMED
DTSTAMP;VALUE=DATE-TIME:20150108T045351.000000Z
IMAGE;VALUE=URI;DISPLAY=BADGE:http://www.adfc-tour.de/uploaded/bild_5488e23e987c9.gif
END:VEVENT
END:VCALENDAR
