BEGIN:VCALENDAR
VERSION:2.0
PRODID:http://www.adfc-tour.de/
NAME:ADFC Veranstaltungen
DESCRIPTION: ADFC Radtouren und Veranstaltungen
REFRESH-INTERVAL;VALUE=DURATION:P1D
X-PUBLISHED-TTL:P1D
COLOR:#ee7f00
X-LOTUS-CHARSET:UTF-8
X-WR-CALNAME:ADFC Veranstaltungen
BEGIN:VTIMEZONE
TZID:Europe/Berlin
X-LIC-LOCATION:Europe/Berlin
BEGIN:DAYLIGHT
TZOFFSETFROM:+0100
TZOFFSETTO:+0200
TZNAME:CEST
DTSTART:19700329T020000
RRULE:FREQ=YEARLY;BYDAY=-1SU;BYMONTH=3
END:DAYLIGHT
BEGIN:STANDARD
TZOFFSETFROM:+0200
TZOFFSETTO:+0100
TZNAME:CET
DTSTART:19701025T030000
RRULE:FREQ=YEARLY;BYDAY=-1SU;BYMONTH=10
END:STANDARD
END:VTIMEZONE
METHOD:PUBLISH
BEGIN:VEVENT
CLASS:PUBLIC
UID:adfc-tour.de62192T100000S213
DTSTART;TZID=Europe/Berlin;VALUE=DATE-TIME:20190817T100000
SUMMARY:Rückenwind: Fahrradcodierung mit dem ADFC
DESCRIPTION:Potentielle Fahrraddiebe abschrecken - dazu kann neben einem guten Schloss die Codierung des Fahrrads mit der FEIN-Nummer beitragen. Wir gravieren mit einem speziellen Gerät die Nummer in den Fahrradrahmen. Anhand der Nummer kann der rechtmäßige Besitzer des Rades ermittelt werden. Bitte Ihren Personalausweis sowie den Kaufbeleg des Fahrrades mitbringen.\nFür Details siehe https://www.adfc-tour.de/zeige_tour.php?id=62192 \n Schwierigkeit .
COMMENT:Kosten der Codierung ca. 13 EUR\, E-Bikes 16 EUR
LOCATION:Fahrradladen Rückenwind\, Friedberg\, Straßheimer Straße 55
GEO:50.321861;8.743292
ORGANIZER;CN=ADFC Ortsgruppe Bad Nauheim/Friedberg e.V.:mailto:kalender@adfc-tour.de
CONTACT:Rainer-Maria Hohmann\, Hans-Jürgen Kubitz
URL:https://www.adfc-tour.de/zeige_tour.php?id=62192#coming_from=ICS
ATTACH:https://www.adfc-tour.de/zeige_tour.php?id=62192#coming_from=ICS
CATEGORIES:Service
STATUS:CONFIRMED
DTSTAMP;VALUE=DATE-TIME:20181225T125951.000000Z
END:VEVENT
END:VCALENDAR
