BEGIN:VCALENDAR
VERSION:2.0
PRODID:http://www.adfc-tour.de/
NAME:ADFC Veranstaltungen
DESCRIPTION: ADFC Radtouren und Veranstaltungen
REFRESH-INTERVAL;VALUE=DURATION:P1D
X-PUBLISHED-TTL:P1D
COLOR:#ee7f00
X-LOTUS-CHARSET:UTF-8
X-WR-CALNAME:ADFC Veranstaltungen
BEGIN:VTIMEZONE
TZID:Europe/Berlin
X-LIC-LOCATION:Europe/Berlin
BEGIN:DAYLIGHT
TZOFFSETFROM:+0100
TZOFFSETTO:+0200
TZNAME:CEST
DTSTART:19700329T020000
RRULE:FREQ=YEARLY;BYDAY=-1SU;BYMONTH=3
END:DAYLIGHT
BEGIN:STANDARD
TZOFFSETFROM:+0200
TZOFFSETTO:+0100
TZNAME:CET
DTSTART:19701025T030000
RRULE:FREQ=YEARLY;BYDAY=-1SU;BYMONTH=10
END:STANDARD
END:VTIMEZONE
METHOD:PUBLISH
BEGIN:VEVENT
CLASS:PUBLIC
UID:adfc-tour.de78714T090000S2193
DTSTART;TZID=Europe/Berlin;VALUE=DATE-TIME:20220611T090000
SUMMARY:STADTRADELN-Tag
DESCRIPTION:Am STADTRADELN-Tag ist jeder eingeladen\, per Rad durch den Kreis zu touren. Dazu sind in vielen Kommunen des Kreisgebietes von 10 bis 17 Uhr Stempelstationen aufgebaut\, die individuell angefahren werden können. Unter www.stadtradeln-kreispi.de findet man die Standorte der Stempelstationen und weitergehende Informationen. So kann sich jeder seine individuelle Tour zusammenstellen. Abends wird ein großes Fahrradfest für alle geplant.\nFür Details siehe https://www.adfc-tour.de/zeige_tour.php?id=78714 \n1 km\, Schwierigkeit -.
COMMENT:
LOCATION:-
GEO:53.655092309994544;9.798195362091066
ORGANIZER;CN=ADFC Pinneberg:mailto:kalender@adfc-tour.de
CONTACT:N.N. 
URL:https://www.adfc-tour.de/zeige_tour.php?id=78714#coming_from=ICS
ATTACH:https://www.adfc-tour.de/zeige_tour.php?id=78714#coming_from=ICS
CATEGORIES:ausgeschilderte Radtour
DTEND;TZID=Europe/Berlin;VALUE=DATE-TIME:20220611T180000
STATUS:CONFIRMED
DTSTAMP;VALUE=DATE-TIME:20230227T215715.000000Z
END:VEVENT
END:VCALENDAR
