BEGIN:VCALENDAR
VERSION:2.0
PRODID:http://www.adfc-tour.de/
NAME:ADFC Veranstaltungen
DESCRIPTION: ADFC Radtouren und Veranstaltungen
REFRESH-INTERVAL;VALUE=DURATION:P1D
X-PUBLISHED-TTL:P1D
COLOR:#ee7f00
X-LOTUS-CHARSET:UTF-8
X-WR-CALNAME:ADFC Veranstaltungen
BEGIN:VTIMEZONE
TZID:Europe/Berlin
X-LIC-LOCATION:Europe/Berlin
BEGIN:DAYLIGHT
TZOFFSETFROM:+0100
TZOFFSETTO:+0200
TZNAME:CEST
DTSTART:19700329T020000
RRULE:FREQ=YEARLY;BYDAY=-1SU;BYMONTH=3
END:DAYLIGHT
BEGIN:STANDARD
TZOFFSETFROM:+0200
TZOFFSETTO:+0100
TZNAME:CET
DTSTART:19701025T030000
RRULE:FREQ=YEARLY;BYDAY=-1SU;BYMONTH=10
END:STANDARD
END:VTIMEZONE
METHOD:PUBLISH
BEGIN:VEVENT
CLASS:PUBLIC
UID:adfc-tour.de81390T140000S28
DTSTART;TZID=Europe/Berlin;VALUE=DATE-TIME:20230902T140000
SUMMARY:Zur Villa Rustica
DESCRIPTION:Über Harheim und Nieder-Eschbach gelangen wir an den Stadtrand Bad Homburgs. Hier sind an einer Ausgrabungsstätte Reste einer Villa Rustica – eines ehemaligen römischen Gutshofs – zu bestaunen. Wir werden Informationen zur Entstehungsgeschichte der Villa und zum römischen Leben erhalten.\nFür das leibliche Wohl wird bei einer Pause im nahegelegenen Café am Lindenhof gesorgt. Anschließend rollen wir über den Riedberg hinunter zum Alten Flugplatz an der Nidda und folgen dem Fluss bis zum Endpunkt der Tour in Bad Vilbel.\nFür Details siehe https://www.adfc-tour.de/zeige_tour.php?id=81390 \n25 km\, Schwierigkeit *.
COMMENT:
LOCATION:Bad Vilbel: Kurhaus
GEO:50.182422;8.738798
ORGANIZER;CN=ADFC Bad Vilbel / Karben e.V.:mailto:kalender@adfc-tour.de
CONTACT:Wulfhard Bäumlein\, Christina Romeis
URL:https://www.adfc-tour.de/zeige_tour.php?id=81390#coming_from=ICS
ATTACH:https://www.adfc-tour.de/zeige_tour.php?id=81390#coming_from=ICS
CATEGORIES:Tour am Wochenende oder Feiertag
STATUS:CONFIRMED
DTSTAMP;VALUE=DATE-TIME:20250128T132938.000000Z
END:VEVENT
END:VCALENDAR
