BEGIN:VCALENDAR
VERSION:2.0
PRODID:http://www.adfc-tour.de/
NAME:ADFC Veranstaltungen
DESCRIPTION: ADFC Radtouren und Veranstaltungen
REFRESH-INTERVAL;VALUE=DURATION:P1D
X-PUBLISHED-TTL:P1D
COLOR:#ee7f00
X-LOTUS-CHARSET:UTF-8
X-WR-CALNAME:ADFC Veranstaltungen
BEGIN:VTIMEZONE
TZID:Europe/Berlin
X-LIC-LOCATION:Europe/Berlin
BEGIN:DAYLIGHT
TZOFFSETFROM:+0100
TZOFFSETTO:+0200
TZNAME:CEST
DTSTART:19700329T020000
RRULE:FREQ=YEARLY;BYDAY=-1SU;BYMONTH=3
END:DAYLIGHT
BEGIN:STANDARD
TZOFFSETFROM:+0200
TZOFFSETTO:+0100
TZNAME:CET
DTSTART:19701025T030000
RRULE:FREQ=YEARLY;BYDAY=-1SU;BYMONTH=10
END:STANDARD
END:VTIMEZONE
METHOD:PUBLISH
BEGIN:VEVENT
CLASS:PUBLIC
UID:adfc-tour.de85172T100000S142
DTSTART;TZID=Europe/Berlin;VALUE=DATE-TIME:20240614T100000
SUMMARY:Seniorentouren Nidderau 2024
DESCRIPTION:Fahrradtouren des Nidderauer Seniorenbeirates mit dem ADFC.\nZur körperlichen Fitness und um die Umgebung von Nidderau besser kennenzulernen\, fahren wir gemeinsam Fahrrad. Zusammen mit dem ADFC-Main-Kinzig führt der Seniorenbeirat die Fahrradtouren jeweils am 2. Freitag eines Monats (im April und Juni bis Oktober)\, im Mai am 3. Freitag. Wenn nicht anders festgelegt\, starten die Touren jeweils um 10.00 Uhr an der Willi-Salzmann-Halle. Je nach Streckenführung und Ziel wird ggfs. eingekehrt. Die Touren sind seniorengerecht gestaltet (moderates Tempo\, wenig Steigungen). Bei den Touren wird auf die schwächsten Mitfahrer besonders geachtet. Für die Koordination der Touren ist Ronald Holzwarth (Seniorenbeirat) Tel.: 06187 900114\nDen nächsten Termin und das Tour-Ziel finden Sie im städtischen Veranstaltungskalender\, der Presse und im Newsletter des Seniorenbeirats.\nhttps://www.nidderau.de/leben-wohnen/familie-soziales/seniorinnen-senioren/#veranstaltungskalender-senioren\nFür Details siehe https://www.adfc-tour.de/zeige_tour.php?id=85172 \n60 km\, Schwierigkeit leicht.
COMMENT:
LOCATION:Windecken\, Willi-Salzmann-Halle
GEO:50.224614;8.876996
ORGANIZER;CN=ADFC-Kreisverband Main-Kinzig e.V.\,ADFC Nidderau/Schöneck:mailto:kalender@adfc-tour.de
CONTACT:N. N.
URL:https://www.adfc-tour.de/zeige_tour.php?id=85172#coming_from=ICS
ATTACH:https://www.adfc-tour.de/zeige_tour.php?id=85172#coming_from=ICS
CATEGORIES:Tagestour
STATUS:CONFIRMED
DTSTAMP;VALUE=DATE-TIME:20240406T223751.000000Z
END:VEVENT
END:VCALENDAR
