BEGIN:VCALENDAR
VERSION:2.0
PRODID:http://www.adfc-tour.de/
NAME:ADFC Veranstaltungen
DESCRIPTION: ADFC Radtouren und Veranstaltungen
REFRESH-INTERVAL;VALUE=DURATION:P1D
X-PUBLISHED-TTL:P1D
COLOR:#ee7f00
X-LOTUS-CHARSET:UTF-8
X-WR-CALNAME:ADFC Veranstaltungen
BEGIN:VTIMEZONE
TZID:Europe/Berlin
X-LIC-LOCATION:Europe/Berlin
BEGIN:DAYLIGHT
TZOFFSETFROM:+0100
TZOFFSETTO:+0200
TZNAME:CEST
DTSTART:19700329T020000
RRULE:FREQ=YEARLY;BYDAY=-1SU;BYMONTH=3
END:DAYLIGHT
BEGIN:STANDARD
TZOFFSETFROM:+0200
TZOFFSETTO:+0100
TZNAME:CET
DTSTART:19701025T030000
RRULE:FREQ=YEARLY;BYDAY=-1SU;BYMONTH=10
END:STANDARD
END:VTIMEZONE
METHOD:PUBLISH
BEGIN:VEVENT
CLASS:PUBLIC
UID:adfc-tour.de86376T140000S236
DTSTART;TZID=Europe/Berlin;VALUE=DATE-TIME:20250810T140000
SUMMARY:Das Teerfarbenwerk Oehler – Tage der Industriekultur
DESCRIPTION:Vor 175 Jahren wurde die K. Oehler Anilin- und Anilinfarbenfabrik gegründet. So geht es heute um die Geschichte der Familie Oehler und ihre Fabrik\, einschließlich der ehemaligen Munitionsfabrik in Heusenstamm\, in der sich ein schweres Explosionsunglück ereignete. Dabei wird auch auf das Kapitel des Offenbach Archival Depot eingegangen.\nFür Details siehe https://www.adfc-tour.de/zeige_tour.php?id=86376 \n25 km\, Schwierigkeit *.
COMMENT:
LOCATION:Offenbach: Isenburger Schloss
GEO:50.107802;8.764955
ORGANIZER;CN=ADFC KV Offenbach\,ADFC Offenbach am Main:mailto:kalender@adfc-tour.de
CONTACT:Hans Werner
URL:https://www.adfc-tour.de/zeige_tour.php?id=86376#coming_from=ICS
ATTACH:https://www.adfc-tour.de/zeige_tour.php?id=86376#coming_from=ICS
CATEGORIES:Tour am Wochenende oder Feiertag
STATUS:CONFIRMED
DTSTAMP;VALUE=DATE-TIME:20250119T151049.000000Z
END:VEVENT
END:VCALENDAR
