BEGIN:VCALENDAR
VERSION:2.0
PRODID:http://www.adfc-tour.de/
NAME:ADFC Veranstaltungen
DESCRIPTION: ADFC Radtouren und Veranstaltungen
REFRESH-INTERVAL;VALUE=DURATION:P1D
X-PUBLISHED-TTL:P1D
COLOR:#ee7f00
X-LOTUS-CHARSET:UTF-8
X-WR-CALNAME:ADFC Veranstaltungen
BEGIN:VTIMEZONE
TZID:Europe/Berlin
X-LIC-LOCATION:Europe/Berlin
BEGIN:DAYLIGHT
TZOFFSETFROM:+0100
TZOFFSETTO:+0200
TZNAME:CEST
DTSTART:19700329T020000
RRULE:FREQ=YEARLY;BYDAY=-1SU;BYMONTH=3
END:DAYLIGHT
BEGIN:STANDARD
TZOFFSETFROM:+0200
TZOFFSETTO:+0100
TZNAME:CET
DTSTART:19701025T030000
RRULE:FREQ=YEARLY;BYDAY=-1SU;BYMONTH=10
END:STANDARD
END:VTIMEZONE
METHOD:PUBLISH
BEGIN:VEVENT
CLASS:PUBLIC
UID:adfc-tour.de87178T110000S127
DTSTART;TZID=Europe/Berlin;VALUE=DATE-TIME:20250525T110000
SUMMARY:Radwanderung nach Gambach zum Spargelessen
DESCRIPTION:Wir fahren einen weiten Bogen durch die nördliche Wetterau. Bei Wetterauer Früchtchen außerhalb von Gambach lassen wir uns genügend Zeit\, um den köstlichen Spargel\, Erdbeerkuchen oder Picknick zu genießen. Die Route zurück führt uns über Ober-Hörgern\, Münzenberg und durch das Wettertal.\nDie Tourenleiterin fährt E-bike.\nFür Details siehe https://www.adfc-tour.de/zeige_tour.php?id=87178 \n60 km\, Schwierigkeit **.
COMMENT:
LOCATION:Bad Nauheim\, Ludwigsbrunnen
GEO:50.358016;8.744216
ORGANIZER;CN=ADFC Ortsgruppe Bad Nauheim/Friedberg e.V.\,ADFC Bad Nauheim / Friedberg:mailto:kalender@adfc-tour.de
CONTACT:Katharina Büttner
URL:https://www.adfc-tour.de/zeige_tour.php?id=87178#coming_from=ICS
ATTACH:https://www.adfc-tour.de/zeige_tour.php?id=87178#coming_from=ICS
CATEGORIES:Tour
STATUS:CONFIRMED
DTSTAMP;VALUE=DATE-TIME:20250411T140710.000000Z
END:VEVENT
END:VCALENDAR
