BEGIN:VCALENDAR
VERSION:2.0
PRODID:http://www.adfc-tour.de/
NAME:ADFC Veranstaltungen
DESCRIPTION: ADFC Radtouren und Veranstaltungen
REFRESH-INTERVAL;VALUE=DURATION:P1D
X-PUBLISHED-TTL:P1D
COLOR:#ee7f00
X-LOTUS-CHARSET:UTF-8
X-WR-CALNAME:ADFC Veranstaltungen
BEGIN:VTIMEZONE
TZID:Europe/Berlin
X-LIC-LOCATION:Europe/Berlin
BEGIN:DAYLIGHT
TZOFFSETFROM:+0100
TZOFFSETTO:+0200
TZNAME:CEST
DTSTART:19700329T020000
RRULE:FREQ=YEARLY;BYDAY=-1SU;BYMONTH=3
END:DAYLIGHT
BEGIN:STANDARD
TZOFFSETFROM:+0200
TZOFFSETTO:+0100
TZNAME:CET
DTSTART:19701025T030000
RRULE:FREQ=YEARLY;BYDAY=-1SU;BYMONTH=10
END:STANDARD
END:VTIMEZONE
METHOD:PUBLISH
BEGIN:VEVENT
CLASS:PUBLIC
UID:adfc-tour.de87590T091500S
DTSTART;TZID=Europe/Berlin;VALUE=DATE-TIME:20260729T091500
SUMMARY:Über die Hutzelstraße zum Schloss Heiligenberg  – Über die Höhen des Odenwaldes
DESCRIPTION:Schloss Heiligenberg liegt am westlichen Odenwaldrand oberhalb der Gemeinde Seeheim-Jugenheim.\nUm dorthin zu gelangen\, kürzen wir die Strecke bis Darmstadt-Wixhausen mit der S6 ab. Von hier umfahren wir Darmstadt bis ins Modautal. Jetzt heißt es kräftig steigen. Über Waschenbach erreichen wir die Hutzelstraße\, einen alten Römerweg. Diesem Weg folgen wir bis Steigerts zur Mittagsrast mit Einkehr. Nach Abfahrt durch das Stettbachtal sind wir am Ziel angelangt: Schloss Heiligenberg. Nach Besichtigung der Außenanlagen radeln wir nach Darmstadt wieder ein Stück an der Modau entlang mit neugestalteten Kunstwerken am Wegesrand. Von Darmstadt geht es zurück mit der S-Bahn.\nAchtung: Es sind längere Steigungen zu bewältigen!\nFür Details siehe https://www.adfc-tour.de/zeige_tour.php?id=87590 \n60 km\, Schwierigkeit ***.\nAnmeldeschluss: Mittwoch, 29.07.2026 00:00:00
COMMENT:Kosten für Bahnfahrten
LOCATION:Frankfurt Louisa Bahnsteig
GEO:50.08402262960837;8.669714927673342
ORGANIZER;CN=ADFC Frankfurt am Main e.V.:mailto:kalender@adfc-tour.de
CONTACT:Margit Luck-Oberhauser\, Erich Lücker
URL:https://www.adfc-tour.de/zeige_tour.php?id=87590#coming_from=ICS
ATTACH:https://www.adfc-tour.de/zeige_tour.php?id=87590#coming_from=ICS
CATEGORIES:Tagestour am Wochentag
STATUS:CONFIRMED
DTSTAMP;VALUE=DATE-TIME:20260113T133701.000000Z
END:VEVENT
END:VCALENDAR
