BEGIN:VCALENDAR
VERSION:2.0
PRODID:http://www.adfc-tour.de/
NAME:ADFC Veranstaltungen
DESCRIPTION: ADFC Radtouren und Veranstaltungen
REFRESH-INTERVAL;VALUE=DURATION:P1D
X-PUBLISHED-TTL:P1D
COLOR:#ee7f00
X-LOTUS-CHARSET:UTF-8
X-WR-CALNAME:ADFC Veranstaltungen
BEGIN:VTIMEZONE
TZID:Europe/Berlin
X-LIC-LOCATION:Europe/Berlin
BEGIN:DAYLIGHT
TZOFFSETFROM:+0100
TZOFFSETTO:+0200
TZNAME:CEST
DTSTART:19700329T020000
RRULE:FREQ=YEARLY;BYDAY=-1SU;BYMONTH=3
END:DAYLIGHT
BEGIN:STANDARD
TZOFFSETFROM:+0200
TZOFFSETTO:+0100
TZNAME:CET
DTSTART:19701025T030000
RRULE:FREQ=YEARLY;BYDAY=-1SU;BYMONTH=10
END:STANDARD
END:VTIMEZONE
METHOD:PUBLISH
BEGIN:VEVENT
CLASS:PUBLIC
UID:adfc-tour.de87905T090000S
DTSTART;TZID=Europe/Berlin;VALUE=DATE-TIME:20260523T090000
SUMMARY:Pfingstzelttour
DESCRIPTION:Die anspruchsvolle Tour führt in vier Etappen aus der Region Frankfurt in das weitere Umland. Die genaue Streckenführung wird noch nicht verraten. Am Ziel angekommen\, erfolgt die individuelle Rückreise mit der Bahn. Übernachtet wird auf Campingplätzen im eigenen Zelt. Abends ist eine gemeinsame Einkehr vorgesehen. Die Teilnehmenden transportieren ihre Campingausrüstung auf dem eigenen Fahrrad. Die Etappen haben ca. 60-80 km und 400-800 hm.\nDetails und Online-Anmeldung siehe Radreiseprogramm www.adfc-frankfurt.de/Radreisen\nFür Details siehe https://www.adfc-tour.de/zeige_tour.php?id=87905 \n300 km\, Schwierigkeit ****.
COMMENT:
LOCATION:Ffm-Westbahnhof
GEO:50.12134854551253;8.637828826904299
ORGANIZER;CN=ADFC Frankfurt am Main e.V.:mailto:kalender@adfc-tour.de
CONTACT:Karl Heinrich Muth\, Egon Schewitz
URL:https://www.adfc-tour.de/zeige_tour.php?id=87905#coming_from=ICS
ATTACH:https://www.adfc-tour.de/zeige_tour.php?id=87905#coming_from=ICS
CATEGORIES:Radreise
DTEND;TZID=Europe/Berlin;VALUE=DATE-TIME:20260526T180000
STATUS:CONFIRMED
DTSTAMP;VALUE=DATE-TIME:20260325T184755.000000Z
END:VEVENT
END:VCALENDAR
