BEGIN:VCALENDAR
VERSION:2.0
PRODID:http://www.adfc-tour.de/
NAME:ADFC Veranstaltungen
DESCRIPTION: ADFC Radtouren und Veranstaltungen
REFRESH-INTERVAL;VALUE=DURATION:P1D
X-PUBLISHED-TTL:P1D
COLOR:#ee7f00
X-LOTUS-CHARSET:UTF-8
X-WR-CALNAME:ADFC Veranstaltungen
BEGIN:VTIMEZONE
TZID:Europe/Berlin
X-LIC-LOCATION:Europe/Berlin
BEGIN:DAYLIGHT
TZOFFSETFROM:+0100
TZOFFSETTO:+0200
TZNAME:CEST
DTSTART:19700329T020000
RRULE:FREQ=YEARLY;BYDAY=-1SU;BYMONTH=3
END:DAYLIGHT
BEGIN:STANDARD
TZOFFSETFROM:+0200
TZOFFSETTO:+0100
TZNAME:CET
DTSTART:19701025T030000
RRULE:FREQ=YEARLY;BYDAY=-1SU;BYMONTH=10
END:STANDARD
END:VTIMEZONE
METHOD:PUBLISH
BEGIN:VEVENT
CLASS:PUBLIC
UID:adfc-tour.de88047T100000S11
DTSTART;TZID=Europe/Berlin;VALUE=DATE-TIME:20260726T100000
SUMMARY:100 Jahre Neues Frankfurt – Die geniale Wohnungsbaupolitik des Oberbürgermeisters Ludwig Landmann
DESCRIPTION:Mitte der 1920er Jahre gab es eine breite Bewegung\, das Wohn-Elend in den beengten und überfüllten Hinterhäusern der Städte zu beenden und den Menschen neue\, bezahlbare\, hochwertige und hygienische Wohnungen zu bieten. Dafür stehen Architekten wie Ernst May\, Martin Elsässer\, Margarete Schütte-Lihotzky oder Walter Gropius. In Frankfurt entstanden zwischen 1925 und 1930 etwa 15.000 Wohnungen in 12 größeren Siedlungen außerhalb der alten Stadt. Die bekanntesten dürften die Siedlungen in der Römerstadt\, in Praunheim und „Zickzackhausen“ in Niederrad sein. Diese und andere werden wir uns ansehen.\nFür Details siehe https://www.adfc-tour.de/zeige_tour.php?id=88047 \n35 km\, Schwierigkeit *.\nAnmeldeschluss: Sonntag, 26.07.2026 00:00:00
COMMENT:
LOCATION:Römerberg
GEO:50.110444;8.682234
ORGANIZER;CN=ADFC Frankfurt am Main e.V.:mailto:kalender@adfc-tour.de
CONTACT:Günter Tatara
URL:https://www.adfc-tour.de/zeige_tour.php?id=88047#coming_from=ICS
ATTACH:https://www.adfc-tour.de/zeige_tour.php?id=88047#coming_from=ICS
CATEGORIES:Tour am Wochenende oder Feiertag
STATUS:CONFIRMED
DTSTAMP;VALUE=DATE-TIME:20260301T131053.000000Z
IMAGE;VALUE=URI;DISPLAY=BADGE:http://www.adfc-tour.de/uploaded/bild_694d18b0e07af.jpg
END:VEVENT
END:VCALENDAR
