BEGIN:VCALENDAR
VERSION:2.0
PRODID:http://www.adfc-tour.de/
NAME:ADFC Veranstaltungen
DESCRIPTION: ADFC Radtouren und Veranstaltungen
REFRESH-INTERVAL;VALUE=DURATION:P1D
X-PUBLISHED-TTL:P1D
COLOR:#ee7f00
X-LOTUS-CHARSET:UTF-8
X-WR-CALNAME:ADFC Veranstaltungen
BEGIN:VTIMEZONE
TZID:Europe/Berlin
X-LIC-LOCATION:Europe/Berlin
BEGIN:DAYLIGHT
TZOFFSETFROM:+0100
TZOFFSETTO:+0200
TZNAME:CEST
DTSTART:19700329T020000
RRULE:FREQ=YEARLY;BYDAY=-1SU;BYMONTH=3
END:DAYLIGHT
BEGIN:STANDARD
TZOFFSETFROM:+0200
TZOFFSETTO:+0100
TZNAME:CET
DTSTART:19701025T030000
RRULE:FREQ=YEARLY;BYDAY=-1SU;BYMONTH=10
END:STANDARD
END:VTIMEZONE
METHOD:PUBLISH
BEGIN:VEVENT
CLASS:PUBLIC
UID:adfc-tour.de88058T100000S14
DTSTART;TZID=Europe/Berlin;VALUE=DATE-TIME:20260726T100000
SUMMARY:Auf zur Burg  Alzenau
DESCRIPTION:Wir radeln über die Laskabrücke nach Lämmerspiel und Klein-Auheim. Dort überqueren wir den Main und kommen das Schloss Emmmerichshofen passierend nach Alzenau. Die Burg gibt ein schönes Panorama für unsere Einkehr. Zurück fahren wir durch den Staatsforst Wolfgang zum Schloss Philippsruhe und weiter nach Frankfurt.\nFür Details siehe https://www.adfc-tour.de/zeige_tour.php?id=88058 \n70 km\, Schwierigkeit ***.\nAnmeldeschluss: Sonntag, 26.07.2026 00:00:00
COMMENT:
LOCATION:Gerbermühle
GEO:50.105953;8.720924
ORGANIZER;CN=ADFC Frankfurt am Main e.V.:mailto:kalender@adfc-tour.de
CONTACT:Wolfgang Meyer
URL:https://www.adfc-tour.de/zeige_tour.php?id=88058#coming_from=ICS
ATTACH:https://www.adfc-tour.de/zeige_tour.php?id=88058#coming_from=ICS
CATEGORIES:Tour am Wochenende oder Feiertag
STATUS:CONFIRMED
DTSTAMP;VALUE=DATE-TIME:20260126T133806.000000Z
END:VEVENT
END:VCALENDAR
