BEGIN:VCALENDAR
VERSION:2.0
PRODID:http://www.adfc-tour.de/
NAME:ADFC Veranstaltungen
DESCRIPTION: ADFC Radtouren und Veranstaltungen
REFRESH-INTERVAL;VALUE=DURATION:P1D
X-PUBLISHED-TTL:P1D
COLOR:#ee7f00
X-LOTUS-CHARSET:UTF-8
X-WR-CALNAME:ADFC Veranstaltungen
BEGIN:VTIMEZONE
TZID:Europe/Berlin
X-LIC-LOCATION:Europe/Berlin
BEGIN:DAYLIGHT
TZOFFSETFROM:+0100
TZOFFSETTO:+0200
TZNAME:CEST
DTSTART:19700329T020000
RRULE:FREQ=YEARLY;BYDAY=-1SU;BYMONTH=3
END:DAYLIGHT
BEGIN:STANDARD
TZOFFSETFROM:+0200
TZOFFSETTO:+0100
TZNAME:CET
DTSTART:19701025T030000
RRULE:FREQ=YEARLY;BYDAY=-1SU;BYMONTH=10
END:STANDARD
END:VTIMEZONE
METHOD:PUBLISH
BEGIN:VEVENT
CLASS:PUBLIC
UID:adfc-tour.de88128S
DTSTART;TZID=Europe/Berlin;VALUE=DATE:20260726
SUMMARY:Blautour Light – Mal hierhin, mal dorthin
DESCRIPTION:Lassen Sie sich überraschen von unseren Fahrten ins Blaue. Die Touren starten zu unterschiedlichen Zeiten an verschiedenen Orten. Sie führen auf attraktiven Routen in die Umgebung von Frankfurt. Eine Einkehr ist unterwegs oder/und zum Schluss geplant.\nEine Woche vor der jeweiligen Blautour reichen wir das Wann-Wo-Wie-Wieweit mit Streckenbeschreibung im Online-Tourenprogramm nach. www.adfc-frankfurt.de/tp\nFür Details siehe https://www.adfc-tour.de/zeige_tour.php?id=88128 \n Schwierigkeit **.
COMMENT:Die Streckenlänge variiert zwischen 30 km und 60 km.
LOCATION:Startort und Zeit werden kurzfristig veröffentlicht
GEO:50.11083637021253;8.681935071945192
ORGANIZER;CN=ADFC Frankfurt am Main e.V.:mailto:kalender@adfc-tour.de
CONTACT:Bettina Abel\, Ulrich  Hahn\, Rainer Mai\, Karl Heinrich Muth\, Thomas Naatz\, Verena Reddig\, Christina Romeis
URL:https://www.adfc-tour.de/zeige_tour.php?id=88128#coming_from=ICS
ATTACH:https://www.adfc-tour.de/zeige_tour.php?id=88128#coming_from=ICS
CATEGORIES:Tour am Wochenende oder Feiertag
STATUS:CONFIRMED
DTSTAMP;VALUE=DATE-TIME:20260125T170936.000000Z
END:VEVENT
END:VCALENDAR
