BEGIN:VCALENDAR
VERSION:2.0
PRODID:http://www.adfc-tour.de/
NAME:ADFC Veranstaltungen
DESCRIPTION: ADFC Radtouren und Veranstaltungen
REFRESH-INTERVAL;VALUE=DURATION:P1D
X-PUBLISHED-TTL:P1D
COLOR:#ee7f00
X-LOTUS-CHARSET:UTF-8
X-WR-CALNAME:ADFC Veranstaltungen
BEGIN:VTIMEZONE
TZID:Europe/Berlin
X-LIC-LOCATION:Europe/Berlin
BEGIN:DAYLIGHT
TZOFFSETFROM:+0100
TZOFFSETTO:+0200
TZNAME:CEST
DTSTART:19700329T020000
RRULE:FREQ=YEARLY;BYDAY=-1SU;BYMONTH=3
END:DAYLIGHT
BEGIN:STANDARD
TZOFFSETFROM:+0200
TZOFFSETTO:+0100
TZNAME:CET
DTSTART:19701025T030000
RRULE:FREQ=YEARLY;BYDAY=-1SU;BYMONTH=10
END:STANDARD
END:VTIMEZONE
METHOD:PUBLISH
BEGIN:VEVENT
CLASS:PUBLIC
UID:adfc-tour.de88245T130000S1458
DTSTART;TZID=Europe/Berlin;VALUE=DATE-TIME:20260426T130000
SUMMARY:Rennradtour „Trebur – Rheinradweg - Main“
DESCRIPTION:Die Tour wendet sich an geübte Rennrad-Sportler/innen\, Durchschnittsgeschwindigkeit: ca. 27+ km/h\, gut geeignet auch als letzte Vorbereitung für das Jedermann-Rennen am 1. Mai.\nZum Auftakt der Saison fahren wir eine extrem flache Strecke\, entsprechend schnell wird gefahren\, auch zur Vorbereitung für das Rennen am 1. Mai – Windschattenfahren inclusive. Über Kriftel\, Steinbach und Flörsheim erreichen wir Rüsselsheim\, folgen der Straße bis Trebur und weiter bis zum Rheindeich nahe der Fähre Nierstein. Ab hier gelangen wir auf dem perfekt ausgebauten Rheinradweg mit einer Pause am Hafen von Ginsheim bis zum Mainspitzdreieck. Am Main entlang geht es dann bis Höchst und über gut befahrbare Straßen bzw. Feldwege zurück bis Schwalbach.\nEin- und Ausstiege an verschiedenen Punkten sind nach Absprache möglich.\nFür Details siehe https://www.adfc-tour.de/zeige_tour.php?id=88245 \n92 km\, Schwierigkeit ****.
COMMENT:Auskunft und Anmeldung per E-Mail (bitte bis drei Tage vorher) bei heinz.werntges@adfc-mtk.de\nErsatztermin Samstag 25.4.\, 13.00 Uhr! Entscheidung ob/wann genau gestartet wird: Freitagabend\, per E-Mail.
LOCATION:Schwalbach S-Bahnhof Limes (Bushaltestellen)
GEO:50.154507;8.527697
ORGANIZER;CN=ADFC Kreisverband Main-Taunus\,ADFC Eschborn/Schwalbach:mailto:kalender@adfc-tour.de
CONTACT:Heinz Werntges
URL:https://www.adfc-tour.de/zeige_tour.php?id=88245#coming_from=ICS
ATTACH:https://www.adfc-tour.de/zeige_tour.php?id=88245#coming_from=ICS
CATEGORIES:Tagestour 
STATUS:CONFIRMED
DTSTAMP;VALUE=DATE-TIME:20260305T194127.000000Z
END:VEVENT
END:VCALENDAR
