BEGIN:VCALENDAR
VERSION:2.0
PRODID:http://www.adfc-tour.de/
NAME:ADFC Veranstaltungen
DESCRIPTION: ADFC Radtouren und Veranstaltungen
REFRESH-INTERVAL;VALUE=DURATION:P1D
X-PUBLISHED-TTL:P1D
COLOR:#ee7f00
X-LOTUS-CHARSET:UTF-8
X-WR-CALNAME:ADFC Veranstaltungen
BEGIN:VTIMEZONE
TZID:Europe/Berlin
X-LIC-LOCATION:Europe/Berlin
BEGIN:DAYLIGHT
TZOFFSETFROM:+0100
TZOFFSETTO:+0200
TZNAME:CEST
DTSTART:19700329T020000
RRULE:FREQ=YEARLY;BYDAY=-1SU;BYMONTH=3
END:DAYLIGHT
BEGIN:STANDARD
TZOFFSETFROM:+0200
TZOFFSETTO:+0100
TZNAME:CET
DTSTART:19701025T030000
RRULE:FREQ=YEARLY;BYDAY=-1SU;BYMONTH=10
END:STANDARD
END:VTIMEZONE
METHOD:PUBLISH
BEGIN:VEVENT
CLASS:PUBLIC
UID:adfc-tour.de88250T100000S34
DTSTART;TZID=Europe/Berlin;VALUE=DATE-TIME:20260510T100000
SUMMARY:Zum Kronenhof nach Bad Homburg
DESCRIPTION:Wir fahren über Sulzbach\, Eschborn und Niederursel nach Kalbach und weiter bis zum Stadtrand von Bad Homburg. Im Restaurant „Graf Zeppelin“ oder im Garten können wir die Brauspezialitäten genießen. Zurück geht es auf Feld- und Waldwegen über Oberursel\, Steinbach und Schwalbach durch den Eichwald wieder zurück nach Bad Soden. Bei Regen fällt die Tour aus.\nFür Details siehe https://www.adfc-tour.de/zeige_tour.php?id=88250 \n65 km\, Schwierigkeit ***.
COMMENT:
LOCATION:Bad Soden Rathaus
GEO:50.144064;8.501401
ORGANIZER;CN=ADFC Kreisverband Main-Taunus\,ADFC Bad Soden:mailto:kalender@adfc-tour.de
CONTACT:Clemens  Rabe
URL:https://www.adfc-tour.de/zeige_tour.php?id=88250#coming_from=ICS
ATTACH:https://www.adfc-tour.de/zeige_tour.php?id=88250#coming_from=ICS
CATEGORIES:Tagestour 
STATUS:CONFIRMED
DTSTAMP;VALUE=DATE-TIME:20260305T195908.000000Z
IMAGE;VALUE=URI;DISPLAY=BADGE:http://www.adfc-tour.de/uploaded/bild_589c811b68100.jpg
END:VEVENT
END:VCALENDAR
