BEGIN:VCALENDAR
VERSION:2.0
PRODID:http://www.adfc-tour.de/
NAME:ADFC Veranstaltungen
DESCRIPTION: ADFC Radtouren und Veranstaltungen
REFRESH-INTERVAL;VALUE=DURATION:P1D
X-PUBLISHED-TTL:P1D
COLOR:#ee7f00
X-LOTUS-CHARSET:UTF-8
X-WR-CALNAME:ADFC Veranstaltungen
BEGIN:VTIMEZONE
TZID:Europe/Berlin
X-LIC-LOCATION:Europe/Berlin
BEGIN:DAYLIGHT
TZOFFSETFROM:+0100
TZOFFSETTO:+0200
TZNAME:CEST
DTSTART:19700329T020000
RRULE:FREQ=YEARLY;BYDAY=-1SU;BYMONTH=3
END:DAYLIGHT
BEGIN:STANDARD
TZOFFSETFROM:+0200
TZOFFSETTO:+0100
TZNAME:CET
DTSTART:19701025T030000
RRULE:FREQ=YEARLY;BYDAY=-1SU;BYMONTH=10
END:STANDARD
END:VTIMEZONE
METHOD:PUBLISH
BEGIN:VEVENT
CLASS:PUBLIC
UID:adfc-tour.de88253T090000S2299
DTSTART;TZID=Europe/Berlin;VALUE=DATE-TIME:20260621T090000
SUMMARY:Gravel / Bikepacking Tour rund um Wiesbaden
DESCRIPTION:Die Tour wendet sich an geübte Biker/innen\, die gerne auf Waldwegen unterwegs sind. Von Niederhöchstadt aus "Graveln" wir über Bad Soden\, Kelkheim und Eppstein Richtung Schlangenbad. Zwischen Niedernhausen und dem Taunus Wunderland fahren wir abseits von Ortschaften auf Waldwegen und werden nur wenigen Menschen begegnen. Eine Mittagspause mit Einkehr ist in Eltville geplant. Nach der Pause werden wir gestärkt den Rückweg am Rhein und Main entlang antreten. Weitere Pausen wie Eisessen im Schiersteiner Hafen sowie Biergartenbesuch in Kelsterbach sind möglich. Du bist richtig\, wenn du nicht schnell\, sondern mit moderatem Tempo und ausdauernd auf Taunus-Waldwegen und anschließend entlang der Flüsse Biken möchtest. Gut ausgerüstet bist du mit Gravel Bike oder MTB Hardtail (ggf. E-Bike mit 2 Akkus)\, mit Werkzeug für das Bike sowie Verpflegung und dem Wetter angemessener Kleidung für dich.\nFür Details siehe https://www.adfc-tour.de/zeige_tour.php?id=88253 \n110 km\, Schwierigkeit ****.
COMMENT:Anmeldung erforderlich!
LOCATION:Eschborn Niederhöchstadt (S-Bahn Haltestelle)
GEO:50.154641352219194;8.546580076217653
ORGANIZER;CN=ADFC Kreisverband Main-Taunus\,ADFC Eschborn/Schwalbach:mailto:kalender@adfc-tour.de
CONTACT:Martin  Krause
URL:https://www.adfc-tour.de/zeige_tour.php?id=88253#coming_from=ICS
ATTACH:https://www.adfc-tour.de/zeige_tour.php?id=88253#coming_from=ICS
CATEGORIES:Tagestour 
STATUS:CONFIRMED
DTSTAMP;VALUE=DATE-TIME:20260305T200605.000000Z
END:VEVENT
END:VCALENDAR
