BEGIN:VCALENDAR
VERSION:2.0
PRODID:http://www.adfc-tour.de/
NAME:ADFC Veranstaltungen
DESCRIPTION: ADFC Radtouren und Veranstaltungen
REFRESH-INTERVAL;VALUE=DURATION:P1D
X-PUBLISHED-TTL:P1D
COLOR:#ee7f00
X-LOTUS-CHARSET:UTF-8
X-WR-CALNAME:ADFC Veranstaltungen
BEGIN:VTIMEZONE
TZID:Europe/Berlin
X-LIC-LOCATION:Europe/Berlin
BEGIN:DAYLIGHT
TZOFFSETFROM:+0100
TZOFFSETTO:+0200
TZNAME:CEST
DTSTART:19700329T020000
RRULE:FREQ=YEARLY;BYDAY=-1SU;BYMONTH=3
END:DAYLIGHT
BEGIN:STANDARD
TZOFFSETFROM:+0200
TZOFFSETTO:+0100
TZNAME:CET
DTSTART:19701025T030000
RRULE:FREQ=YEARLY;BYDAY=-1SU;BYMONTH=10
END:STANDARD
END:VTIMEZONE
METHOD:PUBLISH
BEGIN:VEVENT
CLASS:PUBLIC
UID:adfc-tour.de88256T103000S1167
DTSTART;TZID=Europe/Berlin;VALUE=DATE-TIME:20260527T103000
SUMMARY:Ein Ausflug nach Rüsselsheim – Pedelec (E-Bike) – Tour
DESCRIPTION:Diese abwechslungsreiche Tour verbindet städtische Eindrücke mit weitläufiger Natur und historischen Orten im Rhein-Main-Gebiet.\nVom Startpunkt aus radeln wir zunächst nach Frankfurt-Höchst und queren dort über die Leunabrücke den Main. Weiter geht es nach Kelsterbach und entlang der Nordlandebahn\, einem beliebten und gut ausgebauten Radweg mit freiem Blick auf den Flugverkehr des Frankfurter Flughafens. Anschließend führt die Strecke durch das weitläufige Naturschutzgebiet Mönchbruch\, eines der größten zusammenhängenden Wald- und Feuchtgebiete der Region. Vorbei am historischen Jagdschloss Mönchbruch erreichen wir schließlich Rüsselsheim. Vor der geplanten Einkehr legen wir noch einen kurzen Stopp im sehenswerten Verna-Park ein\, der mit alten Bäumen und gepflegten Grünanlagen zum Verweilen einlädt. Der Rückweg führt uns über die Opelbrücke nach Flörsheim und von dort entspannt zurück zum Startpunkt.\nEine landschaftlich reizvolle Tour mit einer gelungenen Mischung aus Natur\, Kultur und regionalen Besonderheiten – ideal für Genießerinnen und Genießer. Der Streckenverlauf ist überwiegend flach\, auf meist befestigten Wegen. Die Tour fällt bei Regen aus.\nFür Details siehe https://www.adfc-tour.de/zeige_tour.php?id=88256 \n60 km\, Schwierigkeit **.
COMMENT:
LOCATION:Liederbach Rathaus
GEO:50.120777;8.491144
ORGANIZER;CN=ADFC Kreisverband Main-Taunus\,ADFC Liederbach:mailto:kalender@adfc-tour.de
CONTACT:Heidrun Schauer
URL:https://www.adfc-tour.de/zeige_tour.php?id=88256#coming_from=ICS
ATTACH:https://www.adfc-tour.de/zeige_tour.php?id=88256#coming_from=ICS
CATEGORIES:Tagestour 
STATUS:CONFIRMED
DTSTAMP;VALUE=DATE-TIME:20260305T201647.000000Z
END:VEVENT
END:VCALENDAR
