BEGIN:VCALENDAR
VERSION:2.0
PRODID:http://www.adfc-tour.de/
NAME:ADFC Veranstaltungen
DESCRIPTION: ADFC Radtouren und Veranstaltungen
REFRESH-INTERVAL;VALUE=DURATION:P1D
X-PUBLISHED-TTL:P1D
COLOR:#ee7f00
X-LOTUS-CHARSET:UTF-8
X-WR-CALNAME:ADFC Veranstaltungen
BEGIN:VTIMEZONE
TZID:Europe/Berlin
X-LIC-LOCATION:Europe/Berlin
BEGIN:DAYLIGHT
TZOFFSETFROM:+0100
TZOFFSETTO:+0200
TZNAME:CEST
DTSTART:19700329T020000
RRULE:FREQ=YEARLY;BYDAY=-1SU;BYMONTH=3
END:DAYLIGHT
BEGIN:STANDARD
TZOFFSETFROM:+0200
TZOFFSETTO:+0100
TZNAME:CET
DTSTART:19701025T030000
RRULE:FREQ=YEARLY;BYDAY=-1SU;BYMONTH=10
END:STANDARD
END:VTIMEZONE
METHOD:PUBLISH
BEGIN:VEVENT
CLASS:PUBLIC
UID:adfc-tour.de88264T100000S1743
DTSTART;TZID=Europe/Berlin;VALUE=DATE-TIME:20260531T100000
SUMMARY:Mönchbruch
DESCRIPTION:Wir fahren auf überwiegend autofreien Weg über Sindlingen\, Kelsterbach und am Flughafen vorbei bis zum Mönchbruch mit dem Beobachtungsturm im Naturschutzgebiet. Weiter geht es zur alten Opel-Rennbahn\, die südlich von Rüsselsheim verlassen im Wald liegt. Nach einem Picknick geht es zurück über den Main nach Flörsheim und Hofheim zur Einkehr in einem Café. Die Tour endet wieder in Kelkheim.\nFür Details siehe https://www.adfc-tour.de/zeige_tour.php?id=88264 \n60 km\, Schwierigkeit ***.
COMMENT:
LOCATION:Kelkheim Marktplatz (Fahrradständer)
GEO:50.134724;8.453453
ORGANIZER;CN=ADFC Kreisverband Main-Taunus\,ADFC-Kreisverband Main-Taunus:mailto:kalender@adfc-tour.de
CONTACT:Andreas  Ripken
URL:https://www.adfc-tour.de/zeige_tour.php?id=88264#coming_from=ICS
ATTACH:https://www.adfc-tour.de/zeige_tour.php?id=88264#coming_from=ICS
CATEGORIES:Tagestour 
STATUS:CONFIRMED
DTSTAMP;VALUE=DATE-TIME:20260305T203113.000000Z
END:VEVENT
END:VCALENDAR
