BEGIN:VCALENDAR
VERSION:2.0
PRODID:http://www.adfc-tour.de/
NAME:ADFC Veranstaltungen
DESCRIPTION: ADFC Radtouren und Veranstaltungen
REFRESH-INTERVAL;VALUE=DURATION:P1D
X-PUBLISHED-TTL:P1D
COLOR:#ee7f00
X-LOTUS-CHARSET:UTF-8
X-WR-CALNAME:ADFC Veranstaltungen
BEGIN:VTIMEZONE
TZID:Europe/Berlin
X-LIC-LOCATION:Europe/Berlin
BEGIN:DAYLIGHT
TZOFFSETFROM:+0100
TZOFFSETTO:+0200
TZNAME:CEST
DTSTART:19700329T020000
RRULE:FREQ=YEARLY;BYDAY=-1SU;BYMONTH=3
END:DAYLIGHT
BEGIN:STANDARD
TZOFFSETFROM:+0200
TZOFFSETTO:+0100
TZNAME:CET
DTSTART:19701025T030000
RRULE:FREQ=YEARLY;BYDAY=-1SU;BYMONTH=10
END:STANDARD
END:VTIMEZONE
METHOD:PUBLISH
BEGIN:VEVENT
CLASS:PUBLIC
UID:adfc-tour.de88265T103000S2144
DTSTART;TZID=Europe/Berlin;VALUE=DATE-TIME:20260609T103000
SUMMARY:Die Brücken Tour „Vom Main zum Rhein“ - Pedelec (E-Bike) – Tour
DESCRIPTION:Diese landschaftlich besonders reizvolle Tour verbindet abwechslungsreiche Flusslandschaften mit weiten Ausblicken und bekannten Sehenswürdigkeiten entlang von Main und Rhein.\nWir fahren über Liederbach und Hattersheim zu den naturnahen Weilbacher Kiesgruben\, einem beliebten Rückzugsgebiet für Vögel und Naturfreunde. Von dort geht es weiter zur Flörsheimer Warte\, die mit ihrem Panorama einen schönen Überblick über das Maintal bietet. Anschließend führt die Strecke durch die idyllische Wickerbachaue hinunter zum Mainufer. Entlang des Flusses radeln wir gemütlich bis zur Mainmündung bei Gustavsburg\, wo der Main in den Rhein fließt. Über die Rheinbrücke wechseln wir nach Mainz und folgen der Rheinpromenade mit Blick auf die Altstadt\, die Uferanlagen und den Schiffsverkehr.\nWeiter geht es über die Theodor-Heuss-Brücke nach Mainz-Kastel. Von dort führt die Tour durch die Hochheimer Weinberge\, die mit ihren sanften Hügeln und weiten Ausblicken auf Rhein und Main zu den schönsten Abschnitten der Strecke zählen.\nDer Rückweg verläuft stromaufwärts entlang des Mains\, bis wir bei Okriftel in Richtung Hattersheim und Sindlingen abbiegen. Über Zeilsheim und Unterliederbach kehren wir schließlich entspannt zum Startpunkt zurück.\nEine abwechslungsreiche Tour mit viel Wasser\, Natur\, Panorama und regionalem Flair – ideal für alle\, die das Rhein-Main-Gebiet vom Fahrrad aus entdecken möchten.\nDer Tourenverlauf ist überwiegend flach\, auf meist befestigten Wegen. Bei Regen fällt die Tour aus.\nFür Details siehe https://www.adfc-tour.de/zeige_tour.php?id=88265 \n80 km\, Schwierigkeit ***.
COMMENT:Anmeldung erwünscht
LOCATION:Schwalbach Historisches Rathaus
GEO:50.1494098338326;8.53515386581421
ORGANIZER;CN=ADFC Kreisverband Main-Taunus\,ADFC Eschborn/Schwalbach:mailto:kalender@adfc-tour.de
CONTACT:Jürgen Ahl
URL:https://www.adfc-tour.de/zeige_tour.php?id=88265#coming_from=ICS
ATTACH:https://www.adfc-tour.de/zeige_tour.php?id=88265#coming_from=ICS
CATEGORIES:Tagestour 
STATUS:CONFIRMED
DTSTAMP;VALUE=DATE-TIME:20260305T203339.000000Z
END:VEVENT
END:VCALENDAR
