BEGIN:VCALENDAR
VERSION:2.0
PRODID:http://www.adfc-tour.de/
NAME:ADFC Veranstaltungen
DESCRIPTION: ADFC Radtouren und Veranstaltungen
REFRESH-INTERVAL;VALUE=DURATION:P1D
X-PUBLISHED-TTL:P1D
COLOR:#ee7f00
X-LOTUS-CHARSET:UTF-8
X-WR-CALNAME:ADFC Veranstaltungen
BEGIN:VTIMEZONE
TZID:Europe/Berlin
X-LIC-LOCATION:Europe/Berlin
BEGIN:DAYLIGHT
TZOFFSETFROM:+0100
TZOFFSETTO:+0200
TZNAME:CEST
DTSTART:19700329T020000
RRULE:FREQ=YEARLY;BYDAY=-1SU;BYMONTH=3
END:DAYLIGHT
BEGIN:STANDARD
TZOFFSETFROM:+0200
TZOFFSETTO:+0100
TZNAME:CET
DTSTART:19701025T030000
RRULE:FREQ=YEARLY;BYDAY=-1SU;BYMONTH=10
END:STANDARD
END:VTIMEZONE
METHOD:PUBLISH
BEGIN:VEVENT
CLASS:PUBLIC
UID:adfc-tour.de88267T100000S
DTSTART;TZID=Europe/Berlin;VALUE=DATE-TIME:20260613T100000
SUMMARY:Zum Langener Waldsee 
DESCRIPTION:Diese sommerliche Radtour führt uns von Schwalbach auf ruhigen und abwechslungsreichen Wegen zum Langener Waldsee\, einem der schönsten Badeseen im Süden Frankfurts. Über Frankfurt-Höchst erreichen wir den weitläufigen Frankfurter Stadtwald\, der mit langen\, schattigen Passagen für angenehmes Radfahren sorgt. Weiter geht es in Richtung Neu-Isenburg und Langen\, bevor wir unser Ziel erreichen.\nAm Langener Waldsee legen wir eine ausgedehnte Pause ein.\nJe nach Lust und Wetter besteht die Möglichkeit\, schwimmen zu gehen oder am Kiosk einzukehren und die entspannte Atmosphäre am Wasser zu genießen. Die Rückfahrt erfolgt auf ähnlicher Strecke.\nDie Tour ist sowohl für E-Bikes als auch für Bio-Bikes geeignet und richtet sich an alle\, die eine sportlich-entspannte Tagesfahrt mit sommerlichem Flair mögen.\nEine schöne Gelegenheit für Bewegung\, Erfrischung und gute Gespräche auf zwei Rädern. Die Tour fällt bei Regen aus.\nFür Details siehe https://www.adfc-tour.de/zeige_tour.php?id=88267 \n60 km\, Schwierigkeit **.
COMMENT:Anmeldung erwünscht
LOCATION:Alt-Schwalbach\, Mutter Kraus
GEO:50.149052337309456;8.535717129707338
ORGANIZER;CN=ADFC Kreisverband Main-Taunus\,ADFC Eschborn/Schwalbach:mailto:kalender@adfc-tour.de
CONTACT:Wolfgang Bargon
URL:https://www.adfc-tour.de/zeige_tour.php?id=88267#coming_from=ICS
ATTACH:https://www.adfc-tour.de/zeige_tour.php?id=88267#coming_from=ICS
CATEGORIES:Tagestour 
STATUS:CONFIRMED
DTSTAMP;VALUE=DATE-TIME:20260305T204449.000000Z
END:VEVENT
END:VCALENDAR
