BEGIN:VCALENDAR
VERSION:2.0
PRODID:http://www.adfc-tour.de/
NAME:ADFC Veranstaltungen
DESCRIPTION: ADFC Radtouren und Veranstaltungen
REFRESH-INTERVAL;VALUE=DURATION:P1D
X-PUBLISHED-TTL:P1D
COLOR:#ee7f00
X-LOTUS-CHARSET:UTF-8
X-WR-CALNAME:ADFC Veranstaltungen
BEGIN:VTIMEZONE
TZID:Europe/Berlin
X-LIC-LOCATION:Europe/Berlin
BEGIN:DAYLIGHT
TZOFFSETFROM:+0100
TZOFFSETTO:+0200
TZNAME:CEST
DTSTART:19700329T020000
RRULE:FREQ=YEARLY;BYDAY=-1SU;BYMONTH=3
END:DAYLIGHT
BEGIN:STANDARD
TZOFFSETFROM:+0200
TZOFFSETTO:+0100
TZNAME:CET
DTSTART:19701025T030000
RRULE:FREQ=YEARLY;BYDAY=-1SU;BYMONTH=10
END:STANDARD
END:VTIMEZONE
METHOD:PUBLISH
BEGIN:VEVENT
CLASS:PUBLIC
UID:adfc-tour.de88269T180000S2144
DTSTART;TZID=Europe/Berlin;VALUE=DATE-TIME:20260616T180000
SUMMARY:Feierabendtour nach Ginnheim – Pedelec (E-Bike) -Tour
DESCRIPTION:Diese gemütliche Tour startet und endet in Schwalbach und ist ideal\, um den Tag entspannt auf dem Rad ausklingen zu lassen. Auf angenehmen Wegen fahren wir Richtung Ginnheim\, wo eine gemeinsame Einkehr im traditionsreichen Gasthaus „Zum Adler“ vorgesehen ist. Nach der Pause radeln wir in ruhigem Tempo zurück nach Schwalbach. Eine kurze\, gesellige Tour mit Bewegung\, Austausch und Genuss – perfekt für den Abend.\nDer Streckenverlauf ist überwiegend flach auf meist befestigten Wegen.\nBei Regen fällt die Tour aus.\nFür Details siehe https://www.adfc-tour.de/zeige_tour.php?id=88269 \n30 km\, Schwierigkeit **.
COMMENT:Anmeldung erwünscht
LOCATION:Schwalbach Historisches Rathaus
GEO:50.1494098338326;8.53515386581421
ORGANIZER;CN=ADFC Kreisverband Main-Taunus\,ADFC Eschborn/Schwalbach:mailto:kalender@adfc-tour.de
CONTACT:Jürgen Ahl
URL:https://www.adfc-tour.de/zeige_tour.php?id=88269#coming_from=ICS
ATTACH:https://www.adfc-tour.de/zeige_tour.php?id=88269#coming_from=ICS
CATEGORIES:Feierabendtour
STATUS:CONFIRMED
DTSTAMP;VALUE=DATE-TIME:20260305T205100.000000Z
END:VEVENT
END:VCALENDAR
