BEGIN:VCALENDAR
VERSION:2.0
PRODID:http://www.adfc-tour.de/
NAME:ADFC Veranstaltungen
DESCRIPTION: ADFC Radtouren und Veranstaltungen
REFRESH-INTERVAL;VALUE=DURATION:P1D
X-PUBLISHED-TTL:P1D
COLOR:#ee7f00
X-LOTUS-CHARSET:UTF-8
X-WR-CALNAME:ADFC Veranstaltungen
BEGIN:VTIMEZONE
TZID:Europe/Berlin
X-LIC-LOCATION:Europe/Berlin
BEGIN:DAYLIGHT
TZOFFSETFROM:+0100
TZOFFSETTO:+0200
TZNAME:CEST
DTSTART:19700329T020000
RRULE:FREQ=YEARLY;BYDAY=-1SU;BYMONTH=3
END:DAYLIGHT
BEGIN:STANDARD
TZOFFSETFROM:+0200
TZOFFSETTO:+0100
TZNAME:CET
DTSTART:19701025T030000
RRULE:FREQ=YEARLY;BYDAY=-1SU;BYMONTH=10
END:STANDARD
END:VTIMEZONE
METHOD:PUBLISH
BEGIN:VEVENT
CLASS:PUBLIC
UID:adfc-tour.de88271T092000S
DTSTART;TZID=Europe/Berlin;VALUE=DATE-TIME:20260712T092000
SUMMARY:Rennradtour „Vulkanradweg“
DESCRIPTION:Die Tour wendet sich an geübte Rennrad-Sportler/innen\, Durchschnittsgeschwindigkeit: ca. 24+ km/h.\nSie erfordert zunächst eine Anreise bis Fulda Bahnhof mit dem RMV. Von Fulda aus folgen wir dem R2 bis Bad Salzschlirf\, wo wir auf den Vulkanradweg treffen. Diesem kreuzungsarmen und perfekt ausgebauten Radweg folgen wir bis Glauberg (mit Pause in Gedern). Der Anstieg bis Hartmannshain auf dieser ehemaligen Bahnstrecke ist stets sanft\, die lange Abfahrt bis Ortenberg ein Genuss. Zurück geht’s über die Hohe Straße\, Frankfurt-Bergen\, Lohrberg\, Riedberg und Eschborn oder die Nidda-Route zum Ausgangspunkt.\nTreffpunkt ist um 9:20 Uhr am Hauptbahnhof Frankfurt (am Gleis des RE50\, Abfahrt 9:24 Uhr\, vorbehaltlich Planänderungen DB) - bitte pünktlich\, der Zug wartet nicht !\nDie Tour wird nur bei gutem Wetter- und Windbedingungen gefahren und sonst verlegt.\nGemeinsame Anreise von Schwalbach nach Anmeldung ggf. machbar. Ausstiege ab Glauberg per DB an mehreren Orten möglich\nErsatztermin Samstag\, 19.07.\, gleiche Zeit!\nEntscheidung ob/wann genau gestartet wird: Freitagabend\, per E-Mail.\nFür Details siehe https://www.adfc-tour.de/zeige_tour.php?id=88271 \n150 km\, Schwierigkeit ****.
COMMENT:Auskunft und Anmeldung per E-Mail (bitte bis Donnerstagabend) bei heinz.werntges@adfc-mtk.de\nErsatztermin Samstag 11.7.\, gleiche Zeit! Entscheidung ob/wann genau gestartet wird: Freitagabend\, per E-Mail.
LOCATION:Frankfurt Hauptbahnhof
GEO:50.10707949654521;8.662987947463991
ORGANIZER;CN=ADFC Kreisverband Main-Taunus\,ADFC Eschborn/Schwalbach:mailto:kalender@adfc-tour.de
CONTACT:Heinz Werntges
URL:https://www.adfc-tour.de/zeige_tour.php?id=88271#coming_from=ICS
ATTACH:https://www.adfc-tour.de/zeige_tour.php?id=88271#coming_from=ICS
CATEGORIES:Tagestour 
STATUS:CONFIRMED
DTSTAMP;VALUE=DATE-TIME:20260305T205744.000000Z
END:VEVENT
END:VCALENDAR
