BEGIN:VCALENDAR
VERSION:2.0
PRODID:http://www.adfc-tour.de/
NAME:ADFC Veranstaltungen
DESCRIPTION: ADFC Radtouren und Veranstaltungen
REFRESH-INTERVAL;VALUE=DURATION:P1D
X-PUBLISHED-TTL:P1D
COLOR:#ee7f00
X-LOTUS-CHARSET:UTF-8
X-WR-CALNAME:ADFC Veranstaltungen
BEGIN:VTIMEZONE
TZID:Europe/Berlin
X-LIC-LOCATION:Europe/Berlin
BEGIN:DAYLIGHT
TZOFFSETFROM:+0100
TZOFFSETTO:+0200
TZNAME:CEST
DTSTART:19700329T020000
RRULE:FREQ=YEARLY;BYDAY=-1SU;BYMONTH=3
END:DAYLIGHT
BEGIN:STANDARD
TZOFFSETFROM:+0200
TZOFFSETTO:+0100
TZNAME:CET
DTSTART:19701025T030000
RRULE:FREQ=YEARLY;BYDAY=-1SU;BYMONTH=10
END:STANDARD
END:VTIMEZONE
METHOD:PUBLISH
BEGIN:VEVENT
CLASS:PUBLIC
UID:adfc-tour.de88353T180000S1774
DTSTART;TZID=Europe/Berlin;VALUE=DATE-TIME:20260519T180000
SUMMARY:Auf Schleichwegen durch Gießen – Halbtagestour
DESCRIPTION:Die Tour führt kreuz und quer durch Gießen und erkunden diverse Schleichwege\, die vielleicht noch nicht jeder kennt. Manche davon können auch für Alltagsfahrten nützlich sein.\nFür Details siehe https://www.adfc-tour.de/zeige_tour.php?id=88353 \n28 km\, Schwierigkeit *.
COMMENT:
LOCATION:Gießen\, Kirchenplatz
GEO:50.587225;8.674612
ORGANIZER;CN=ADFC Kreisverband Gießen:mailto:kalender@adfc-tour.de
CONTACT:Gernot Linhart
URL:https://www.adfc-tour.de/zeige_tour.php?id=88353#coming_from=ICS
ATTACH:https://www.adfc-tour.de/zeige_tour.php?id=88353#coming_from=ICS
CATEGORIES:
STATUS:CONFIRMED
DTSTAMP;VALUE=DATE-TIME:20260415T172314.000000Z
END:VEVENT
END:VCALENDAR
