BEGIN:VCALENDAR
VERSION:2.0
PRODID:http://www.adfc-tour.de/
NAME:ADFC Veranstaltungen
DESCRIPTION: ADFC Radtouren und Veranstaltungen
REFRESH-INTERVAL;VALUE=DURATION:P1D
X-PUBLISHED-TTL:P1D
COLOR:#ee7f00
X-LOTUS-CHARSET:UTF-8
X-WR-CALNAME:ADFC Veranstaltungen
BEGIN:VTIMEZONE
TZID:Europe/Berlin
X-LIC-LOCATION:Europe/Berlin
BEGIN:DAYLIGHT
TZOFFSETFROM:+0100
TZOFFSETTO:+0200
TZNAME:CEST
DTSTART:19700329T020000
RRULE:FREQ=YEARLY;BYDAY=-1SU;BYMONTH=3
END:DAYLIGHT
BEGIN:STANDARD
TZOFFSETFROM:+0200
TZOFFSETTO:+0100
TZNAME:CET
DTSTART:19701025T030000
RRULE:FREQ=YEARLY;BYDAY=-1SU;BYMONTH=10
END:STANDARD
END:VTIMEZONE
METHOD:PUBLISH
BEGIN:VEVENT
CLASS:PUBLIC
UID:adfc-tour.de88357T100000S
DTSTART;TZID=Europe/Berlin;VALUE=DATE-TIME:20260628T100000
SUMMARY:Graveltour – Wochenendgebiet
DESCRIPTION:Wir fahren eine abwechslungsreiche Gravelrunde mit einem bunten Mix aus Oberflächen und Landschaften. Durch kleine Ortschaften\, über Feldwege und geschotterte Waldwege - auch kurze unbefestigte Passagen sind dabei.\nEs geht in Richtung Lich\, wobei wir einige Schlenker fahren und Lich selbst nur am Rande streifen. Geeignete Räder: Gravelbike\, Mountainbike\nFür Details siehe https://www.adfc-tour.de/zeige_tour.php?id=88357 \n50 km\, Schwierigkeit **.
COMMENT:Anmeldung unter struessmann@me.com
LOCATION:Schwarzacker / Ecke Schlangenzahlpark
GEO:50.56515318043852;8.667880296707155
ORGANIZER;CN=ADFC Kreisverband Gießen:mailto:kalender@adfc-tour.de
CONTACT:Sara Strüßmann
URL:https://www.adfc-tour.de/zeige_tour.php?id=88357#coming_from=ICS
ATTACH:https://www.adfc-tour.de/zeige_tour.php?id=88357#coming_from=ICS
CATEGORIES:
STATUS:CONFIRMED
DTSTAMP;VALUE=DATE-TIME:20260417T112229.000000Z
END:VEVENT
END:VCALENDAR
