BEGIN:VCALENDAR
VERSION:2.0
PRODID:http://www.adfc-tour.de/
NAME:ADFC Veranstaltungen
DESCRIPTION: ADFC Radtouren und Veranstaltungen
REFRESH-INTERVAL;VALUE=DURATION:P1D
X-PUBLISHED-TTL:P1D
COLOR:#ee7f00
X-LOTUS-CHARSET:UTF-8
X-WR-CALNAME:ADFC Veranstaltungen
BEGIN:VTIMEZONE
TZID:Europe/Berlin
X-LIC-LOCATION:Europe/Berlin
BEGIN:DAYLIGHT
TZOFFSETFROM:+0100
TZOFFSETTO:+0200
TZNAME:CEST
DTSTART:19700329T020000
RRULE:FREQ=YEARLY;BYDAY=-1SU;BYMONTH=3
END:DAYLIGHT
BEGIN:STANDARD
TZOFFSETFROM:+0200
TZOFFSETTO:+0100
TZNAME:CET
DTSTART:19701025T030000
RRULE:FREQ=YEARLY;BYDAY=-1SU;BYMONTH=10
END:STANDARD
END:VTIMEZONE
METHOD:PUBLISH
BEGIN:VEVENT
CLASS:PUBLIC
UID:adfc-tour.de88358T102000S642
DTSTART;TZID=Europe/Berlin;VALUE=DATE-TIME:20260425T102000
SUMMARY:Zum Cafe' Hasenacker – Rund um den Isthaberg
DESCRIPTION:Vom Bahnhof in Wolfhagen radeln wir durch das Erpetal nach Wenigenhasungen. Von hier fahren wir über Wirtschaftswege zur Himmelsschaukel bei Altenstädt. Weiter geht es auf dem Hessenkurierweg nach Naumburg. Hier gibt es eine Pause im Cafe' Hasenacker. Anschließend radeln wir auf dem R 4 zurück zum Bahnhof Wolfhagen. Die Anreise erfolgt individuell.\nFür Details siehe https://www.adfc-tour.de/zeige_tour.php?id=88358 \n43 km\, Schwierigkeit ***.
COMMENT:75 % asphaltierte Wege\nZusatzkosten:Bahnfahrt und Einkehr.\nAnmeldung: erforderlich.
LOCATION:Bahnhof Kassel-WilhelmshöheZugabfahrt: 10:39 Uhr
GEO:51.312719;9.446654
ORGANIZER;CN=ADFC Kassel Stadt und Land e.V.\,ADFC Kassel Stadt und Land e.V.:mailto:kalender@adfc-tour.de
CONTACT:Berno Lindenthal
URL:https://www.adfc-tour.de/zeige_tour.php?id=88358#coming_from=ICS
ATTACH:https://www.adfc-tour.de/zeige_tour.php?id=88358#coming_from=ICS
CATEGORIES:Halbtagestour
STATUS:CONFIRMED
DTSTAMP;VALUE=DATE-TIME:20260421T181425.000000Z
IMAGE;VALUE=URI;DISPLAY=BADGE:http://www.adfc-tour.de/uploaded/bild_6563bb14489a4.jpg
END:VEVENT
END:VCALENDAR
