BEGIN:VCALENDAR
VERSION:2.0
PRODID:http://www.adfc-tour.de/
NAME:ADFC Veranstaltungen
DESCRIPTION: ADFC Radtouren und Veranstaltungen
REFRESH-INTERVAL;VALUE=DURATION:P1D
X-PUBLISHED-TTL:P1D
COLOR:#ee7f00
X-LOTUS-CHARSET:UTF-8
X-WR-CALNAME:ADFC Veranstaltungen
BEGIN:VTIMEZONE
TZID:Europe/Berlin
X-LIC-LOCATION:Europe/Berlin
BEGIN:DAYLIGHT
TZOFFSETFROM:+0100
TZOFFSETTO:+0200
TZNAME:CEST
DTSTART:19700329T020000
RRULE:FREQ=YEARLY;BYDAY=-1SU;BYMONTH=3
END:DAYLIGHT
BEGIN:STANDARD
TZOFFSETFROM:+0200
TZOFFSETTO:+0100
TZNAME:CET
DTSTART:19701025T030000
RRULE:FREQ=YEARLY;BYDAY=-1SU;BYMONTH=10
END:STANDARD
END:VTIMEZONE
METHOD:PUBLISH
BEGIN:VEVENT
CLASS:PUBLIC
UID:adfc-tour.de88361T183000S145
DTSTART;TZID=Europe/Berlin;VALUE=DATE-TIME:20260506T183000
SUMMARY:Feierabendtour
DESCRIPTION:25-35 km\, Treffpunkt am Amershamplatz auf der Ostseite des Bensheimer Bahnhofs.\nFür Details siehe https://www.adfc-tour.de/zeige_tour.php?id=88361 \n35 km\, Schwierigkeit leicht.\nAnmeldeschluss: Dienstag, 05.05.2026 00:00:00
COMMENT:Teilnahme bitte nur mit Anmeldung
LOCATION:Bensheim\, Bahnhof Ostseite
GEO:49.681211;8.617057
ORGANIZER;CN=ADFC Bergstraße:mailto:kalender@adfc-tour.de
CONTACT:Margret Degenhardt
URL:https://www.adfc-tour.de/zeige_tour.php?id=88361#coming_from=ICS
ATTACH:https://www.adfc-tour.de/zeige_tour.php?id=88361#coming_from=ICS
CATEGORIES:Feierabendtour
DTEND;TZID=Europe/Berlin;VALUE=DATE-TIME:20260506T180000
STATUS:CONFIRMED
DTSTAMP;VALUE=DATE-TIME:20260422T130317.000000Z
IMAGE;VALUE=URI;DISPLAY=BADGE:http://www.adfc-tour.de/uploaded/bild_621f800c77f07.jpg
END:VEVENT
END:VCALENDAR
