BEGIN:VCALENDAR
VERSION:2.0
PRODID:http://www.adfc-tour.de/
NAME:ADFC Veranstaltungen
DESCRIPTION: ADFC Radtouren und Veranstaltungen
REFRESH-INTERVAL;VALUE=DURATION:P1D
X-PUBLISHED-TTL:P1D
COLOR:#ee7f00
X-LOTUS-CHARSET:UTF-8
X-WR-CALNAME:ADFC Veranstaltungen
BEGIN:VTIMEZONE
TZID:Europe/Berlin
X-LIC-LOCATION:Europe/Berlin
BEGIN:DAYLIGHT
TZOFFSETFROM:+0100
TZOFFSETTO:+0200
TZNAME:CEST
DTSTART:19700329T020000
RRULE:FREQ=YEARLY;BYDAY=-1SU;BYMONTH=3
END:DAYLIGHT
BEGIN:STANDARD
TZOFFSETFROM:+0200
TZOFFSETTO:+0100
TZNAME:CET
DTSTART:19701025T030000
RRULE:FREQ=YEARLY;BYDAY=-1SU;BYMONTH=10
END:STANDARD
END:VTIMEZONE
METHOD:PUBLISH
BEGIN:VEVENT
CLASS:PUBLIC
UID:adfc-tour.de88363T170000S
DTSTART;TZID=Europe/Berlin;VALUE=DATE-TIME:20260603T170000
SUMMARY:Feierabendrunde - Weltfahrradtag    – Gießen - Daubringen - Hangelstein - Alter Flughafen 
DESCRIPTION:Zum Welttag des Fahrrads 2026 bietet der ADFC Gießen eine Feierabendrunde um Gießen an. Die Tour richtet sich an Teilnehmende mit Trekkingbikes (oder vergleichbar)\, da einige Tourabschnitte über nicht geteerte Wege führen. Sie ist sowohl mit einem Pedelec als auch mit Bio-Bike gut zu bewältigen (Tourguide fährt Pedelec).\nStartpunkt ist in Gießen am Christoph-Rübsamen-Steg. Wir folgen zunächst der Lahn bis nach Lollar\, wo wir auf den Lumda-Radweg wechseln und bis nach Daubringen fahren. Dort gibt es einen Anstieg zu bewältigen (ca. 50 Höhenmeter auf 6\,5km Länge\, maximal 5% Steigung) der uns Richtung Naturschutzgebiet Hangelstein führt\, das wir nach Querung der "Brücke über 2 Autobahnen" erreichen. Weiter geht es über den Segelflugplatz Wieseck zum alten Flughafen Gießen. Durch das ehemalige Landesgartenschaugelände und die Dammstraße gelangen wir dann zum Durchstich zur Main-Weser-Bahn. Dort besteht die Möglichkeit gemeinsam mit den anderen Teilnehmenden noch im Bootshaus einzukehren.\nWeitere Highlights an der Strecke: Holz + Technik Museum\, Neue Lahnbrücke bei Wißmar\, Wasserkraftwerk Struppmühle\nAnmeldungen erbeten unter: mail@christoph-oehlschlaeger.de\nBitte sagt bei der Anmeldung Bescheid\, ob ihr im Bootshaus einkehren möchtet\, um eine Tischreservierung zu ermöglichen.\nKomoot-Strecke wird nach finalem Überprüfen der Strecke am Wochenende vor der Tour per email geteilt.\nFür Details siehe https://www.adfc-tour.de/zeige_tour.php?id=88363 \n27 km\, Schwierigkeit *.
COMMENT:
LOCATION:Christoph-Rübsamen-Steg
GEO:50.596045487032455;8.673325181007387
ORGANIZER;CN=ADFC Kreisverband Gießen:mailto:kalender@adfc-tour.de
CONTACT:Christoph Oelschläger
URL:https://www.adfc-tour.de/zeige_tour.php?id=88363#coming_from=ICS
ATTACH:https://www.adfc-tour.de/zeige_tour.php?id=88363#coming_from=ICS
CATEGORIES:
STATUS:CONFIRMED
DTSTAMP;VALUE=DATE-TIME:20260423T111433.000000Z
IMAGE;VALUE=URI;DISPLAY=BADGE:http://www.adfc-tour.de/uploaded/bild_69e9dc1c95311.jpg
END:VEVENT
END:VCALENDAR
