BEGIN:VCALENDAR
VERSION:2.0
PRODID:http://www.adfc-tour.de/
NAME:ADFC Veranstaltungen
DESCRIPTION: ADFC Radtouren und Veranstaltungen
REFRESH-INTERVAL;VALUE=DURATION:P1D
X-PUBLISHED-TTL:P1D
COLOR:#ee7f00
X-LOTUS-CHARSET:UTF-8
X-WR-CALNAME:ADFC Veranstaltungen
BEGIN:VTIMEZONE
TZID:Europe/Berlin
X-LIC-LOCATION:Europe/Berlin
BEGIN:DAYLIGHT
TZOFFSETFROM:+0100
TZOFFSETTO:+0200
TZNAME:CEST
DTSTART:19700329T020000
RRULE:FREQ=YEARLY;BYDAY=-1SU;BYMONTH=3
END:DAYLIGHT
BEGIN:STANDARD
TZOFFSETFROM:+0200
TZOFFSETTO:+0100
TZNAME:CET
DTSTART:19701025T030000
RRULE:FREQ=YEARLY;BYDAY=-1SU;BYMONTH=10
END:STANDARD
END:VTIMEZONE
METHOD:PUBLISH
BEGIN:VEVENT
CLASS:PUBLIC
UID:adfc-tour.de88366T110000S
DTSTART;TZID=Europe/Berlin;VALUE=DATE-TIME:20260503T110000
SUMMARY:Gebrauchtradmarkt und Codieraktion in Bensheim – 11:00 bis 18:00 Uhr
DESCRIPTION:In diesem Jahr findet der Gebrauchtradmarkt des ADFC Bergstraße am Bensheimer Hospitalbrunnen von 11:00 - 18:00 Uhr statt. Es können Fahrräder\, Fahrradzubehör und Fahrradteile zum Verkauf angeboten werden. Standgebühr wird keine erhoben\, über eine kleine Spende (10% vom Verkaufswert) freut sich der Verein. Bücher\, Prospekte und Kartenmaterial gibt es am Infostand.\nDie Helfer vom ADFC stehen gerne mit Rat und Tat zur Seite. Jedem interessierten Radler wird ab 15 Uhr auch die Möglichkeit geboten\, sein Bike von fachkundiger Hand vom langjährigen ADFC-Mitglied Michael Martin auf Funktion und Sicherheit überprüfen zu lassen.\nVon 11:00 bis 16:00 Uhr besteht die Möglichkeit\, sein Fahrrad codieren zu lassen.\nFür Details siehe https://www.adfc-tour.de/zeige_tour.php?id=88366 \n Schwierigkeit -.
COMMENT:
LOCATION:Bensheim\, Hospitalbrunnen
GEO:49.67942539090918;8.621293007672648
ORGANIZER;CN=ADFC Bergstraße:mailto:kalender@adfc-tour.de
CONTACT:keine Tourenleitung .
URL:https://www.adfc-tour.de/zeige_tour.php?id=88366#coming_from=ICS
ATTACH:https://www.adfc-tour.de/zeige_tour.php?id=88366#coming_from=ICS
CATEGORIES:Veranstaltung
STATUS:CONFIRMED
DTSTAMP;VALUE=DATE-TIME:20260425T101746.000000Z
IMAGE;VALUE=URI;DISPLAY=BADGE:http://www.adfc-tour.de/uploaded/bild_68062db4d78d2.jpg
END:VEVENT
END:VCALENDAR
